2.540000
0.000000
0.000000
-2.540000
250869.113146
4668461.513318
